BEGIN:VCALENDAR
VERSION:2.0
PRODID:spatie/icalendar-generator
DESCRIPTION:Evenementen van Vereniging Vestingstad Naarden
X-WR-CALDESC:Evenementen van Vereniging Vestingstad Naarden
REFRESH-INTERVAL;VALUE=DURATION:PT1440M
X-PUBLISHED-TTL:PT1440M
BEGIN:VTIMEZONE
TZID:Europe/Amsterdam
BEGIN:STANDARD
DTSTART:20241027T030000Z
TZOFFSETFROM:+0200
TZOFFSETTO:+0100
END:STANDARD
BEGIN:DAYLIGHT
DTSTART:20250330T020000Z
TZOFFSETFROM:+0100
TZOFFSETTO:+0200
END:DAYLIGHT
END:VTIMEZONE
BEGIN:VTIMEZONE
TZID:UTC
BEGIN:STANDARD
DTSTART:20250727T103832Z
TZOFFSETFROM:+0000
TZOFFSETTO:+0000
END:STANDARD
END:VTIMEZONE
BEGIN:VEVENT
UID:80843-210
DTSTAMP:20260423T103832Z
SUMMARY:historisch cafe
LOCATION:
ORGANIZER;CN=1:MAILTO:keesvanuuden@planet.nl
DTSTART;TZID=Europe/Amsterdam:20250115T201500
DTEND;TZID=Europe/Amsterdam:20250115T221500
X-ALT-DESC;FMTTYPE=TEXT/HTML:Lied van verzet. lezing door Jan Vollers over 
 het bijzondere levensverhaal van twee onderduikers in 't hooge nest zie ac
 tiviteit Historisch café
CATEGORIES:Agenda
URL;VALUE=URI:https://verenigingvestingstad.nl/mc-events/historisch-cafe-9/
METHOD:PUBLISH
END:VEVENT
END:VCALENDAR