BEGIN:VCALENDAR
VERSION:2.0
PRODID:spatie/icalendar-generator
DESCRIPTION:Evenementen van Vereniging Vestingstad Naarden
X-WR-CALDESC:Evenementen van Vereniging Vestingstad Naarden
REFRESH-INTERVAL;VALUE=DURATION:PT1440M
X-PUBLISHED-TTL:PT1440M
BEGIN:VTIMEZONE
TZID:Europe/Amsterdam
BEGIN:STANDARD
DTSTART:20241027T030000Z
TZOFFSETFROM:+0200
TZOFFSETTO:+0100
END:STANDARD
BEGIN:DAYLIGHT
DTSTART:20250330T020000Z
TZOFFSETFROM:+0100
TZOFFSETTO:+0200
END:DAYLIGHT
END:VTIMEZONE
BEGIN:VTIMEZONE
TZID:UTC
BEGIN:STANDARD
DTSTART:20250727T161824Z
TZOFFSETFROM:+0000
TZOFFSETTO:+0000
END:STANDARD
END:VTIMEZONE
BEGIN:VEVENT
UID:80842-209
DTSTAMP:20260423T161824Z
SUMMARY:stadswandeling 2e kerstdag
LOCATION:
ORGANIZER;CN=1:MAILTO:keesvanuuden@planet.nl
DTSTART;TZID=Europe/Amsterdam:20241226T113000
DTEND;TZID=Europe/Amsterdam:20241226T130000
X-ALT-DESC;FMTTYPE=TEXT/HTML:Op 2e kerstdag  De start is om 11.30 uur bij
  de Utrechtse Poort aan het Ruysdaelplein. 
CATEGORIES:Agenda
URL;VALUE=URI:https://verenigingvestingstad.nl/mc-events/stadswandeling-2e-
 kerstdag/
METHOD:PUBLISH
END:VEVENT
END:VCALENDAR