BEGIN:VCALENDAR
VERSION:2.0
PRODID:spatie/icalendar-generator
DESCRIPTION:Evenementen van Vereniging Vestingstad Naarden
X-WR-CALDESC:Evenementen van Vereniging Vestingstad Naarden
REFRESH-INTERVAL;VALUE=DURATION:PT1440M
X-PUBLISHED-TTL:PT1440M
BEGIN:VTIMEZONE
TZID:Europe/Amsterdam
BEGIN:STANDARD
DTSTART:20231029T030000Z
TZOFFSETFROM:+0200
TZOFFSETTO:+0100
END:STANDARD
BEGIN:DAYLIGHT
DTSTART:20240331T020000Z
TZOFFSETFROM:+0100
TZOFFSETTO:+0200
END:DAYLIGHT
BEGIN:STANDARD
DTSTART:20241027T030000Z
TZOFFSETFROM:+0200
TZOFFSETTO:+0100
END:STANDARD
END:VTIMEZONE
BEGIN:VTIMEZONE
TZID:UTC
BEGIN:STANDARD
DTSTART:20250728T064742Z
TZOFFSETFROM:+0000
TZOFFSETTO:+0000
END:STANDARD
END:VTIMEZONE
BEGIN:VEVENT
UID:60879-160
DTSTAMP:20260424T064742Z
SUMMARY:Dansen op het Plein!
LOCATION:
ORGANIZER;CN=1:MAILTO:keesvanuuden@planet.nl
DTSTART;TZID=Europe/Amsterdam:20240428T140000
DTEND;TZID=Europe/Amsterdam:20240428T170000
X-ALT-DESC;FMTTYPE=TEXT/HTML:Ook zo’n zin om weer te dansen?!  Op zondag
 middag 28 april organiseren Vereniging Vestingstad Naarden en Podium deMes
 s ‘Dansen op het plein!’  zie Actueel nieuws voor meer informatie
CATEGORIES:Agenda
URL;VALUE=URI:https://verenigingvestingstad.nl/mc-events/dansen-op-het-plei
 n/
METHOD:PUBLISH
END:VEVENT
END:VCALENDAR