BEGIN:VCALENDAR
VERSION:2.0
PRODID:spatie/icalendar-generator
DESCRIPTION:Evenementen van Vereniging Vestingstad Naarden
X-WR-CALDESC:Evenementen van Vereniging Vestingstad Naarden
REFRESH-INTERVAL;VALUE=DURATION:PT1440M
X-PUBLISHED-TTL:PT1440M
BEGIN:VTIMEZONE
TZID:Europe/Amsterdam
BEGIN:STANDARD
DTSTART:20131027T030000Z
TZOFFSETFROM:+0200
TZOFFSETTO:+0100
END:STANDARD
BEGIN:DAYLIGHT
DTSTART:20140330T020000Z
TZOFFSETFROM:+0100
TZOFFSETTO:+0200
END:DAYLIGHT
BEGIN:STANDARD
DTSTART:20141026T030000Z
TZOFFSETFROM:+0200
TZOFFSETTO:+0100
END:STANDARD
END:VTIMEZONE
BEGIN:VTIMEZONE
TZID:UTC
BEGIN:STANDARD
DTSTART:20250726T224238Z
TZOFFSETFROM:+0000
TZOFFSETTO:+0000
END:STANDARD
END:VTIMEZONE
BEGIN:VEVENT
UID:53-42
DTSTAMP:20260422T224238Z
SUMMARY:Toren beklimmen
LOCATION:
ORGANIZER;CN=1:MAILTO:keesvanuuden@planet.nl
DTSTART;TZID=Europe/Amsterdam:20140521T140000
DTEND;TZID=Europe/Amsterdam:20140521T130200
X-ALT-DESC;FMTTYPE=TEXT/HTML:woensdagmiddag 14.00 en 15.00 uur. Zie activit
 eit TORENBEKLIMMEN
CATEGORIES:Agenda
URL;VALUE=URI:https://verenigingvestingstad.nl/mc-events/toren-beklimmen-34
 /
METHOD:PUBLISH
END:VEVENT
END:VCALENDAR