BEGIN:VCALENDAR
VERSION:2.0
PRODID:spatie/icalendar-generator
DESCRIPTION:Evenementen van Vereniging Vestingstad Naarden
X-WR-CALDESC:Evenementen van Vereniging Vestingstad Naarden
REFRESH-INTERVAL;VALUE=DURATION:PT1440M
X-PUBLISHED-TTL:PT1440M
BEGIN:VTIMEZONE
TZID:Europe/Amsterdam
BEGIN:STANDARD
DTSTART:20231029T030000Z
TZOFFSETFROM:+0200
TZOFFSETTO:+0100
END:STANDARD
BEGIN:DAYLIGHT
DTSTART:20240331T020000Z
TZOFFSETFROM:+0100
TZOFFSETTO:+0200
END:DAYLIGHT
BEGIN:STANDARD
DTSTART:20241027T030000Z
TZOFFSETFROM:+0200
TZOFFSETTO:+0100
END:STANDARD
END:VTIMEZONE
BEGIN:VTIMEZONE
TZID:UTC
BEGIN:STANDARD
DTSTART:20250727T121327Z
TZOFFSETFROM:+0000
TZOFFSETTO:+0000
END:STANDARD
END:VTIMEZONE
BEGIN:VEVENT
UID:44441-189
DTSTAMP:20260423T121327Z
SUMMARY:extra stadswandeling
LOCATION:
ORGANIZER;CN=1:MAILTO:keesvanuuden@planet.nl
DTSTART;TZID=Europe/Amsterdam:20240520T140000
DTEND;TZID=Europe/Amsterdam:20240520T153000
X-ALT-DESC;FMTTYPE=TEXT/HTML:2de pinksterdag Voor info Zie activiteit Stads
 wandelingen
CATEGORIES:Agenda
URL;VALUE=URI:https://verenigingvestingstad.nl/mc-events/extra-stadswandeli
 ng-21/
METHOD:PUBLISH
END:VEVENT
END:VCALENDAR